BEGIN:VCALENDAR
VERSION:2.0
PRODID:-//Sankt Georg Dinkelsbühl - ECPv6.15.20//NONSGML v1.0//EN
CALSCALE:GREGORIAN
METHOD:PUBLISH
X-WR-CALNAME:Sankt Georg Dinkelsbühl
X-ORIGINAL-URL:https://st-georg-dinkelsbuehl.de
X-WR-CALDESC:Veranstaltungen für Sankt Georg Dinkelsbühl
REFRESH-INTERVAL;VALUE=DURATION:PT1H
X-Robots-Tag:noindex
X-PUBLISHED-TTL:PT1H
BEGIN:VTIMEZONE
TZID:Europe/Berlin
BEGIN:DAYLIGHT
TZOFFSETFROM:+0100
TZOFFSETTO:+0200
TZNAME:CEST
DTSTART:20250330T010000
END:DAYLIGHT
BEGIN:STANDARD
TZOFFSETFROM:+0200
TZOFFSETTO:+0100
TZNAME:CET
DTSTART:20251026T010000
END:STANDARD
BEGIN:DAYLIGHT
TZOFFSETFROM:+0100
TZOFFSETTO:+0200
TZNAME:CEST
DTSTART:20260329T010000
END:DAYLIGHT
BEGIN:STANDARD
TZOFFSETFROM:+0200
TZOFFSETTO:+0100
TZNAME:CET
DTSTART:20261025T010000
END:STANDARD
BEGIN:DAYLIGHT
TZOFFSETFROM:+0100
TZOFFSETTO:+0200
TZNAME:CEST
DTSTART:20270328T010000
END:DAYLIGHT
BEGIN:STANDARD
TZOFFSETFROM:+0200
TZOFFSETTO:+0100
TZNAME:CET
DTSTART:20271031T010000
END:STANDARD
END:VTIMEZONE
BEGIN:VEVENT
DTSTART;VALUE=DATE:20260101
DTEND;VALUE=DATE:20260201
DTSTAMP:20260422T122017
CREATED:20260106T171625Z
LAST-MODIFIED:20260106T172548Z
UID:13523-1767225600-1769903999@st-georg-dinkelsbuehl.de
SUMMARY:Wir wünschen Ihnen einen guten Start ins Neue Jahr 2026!
DESCRIPTION:
URL:https://st-georg-dinkelsbuehl.de/event/wir-wuenschen-ihnen-einen-guten-start-ins-neue-jahr-2026/
LOCATION:Bayern
END:VEVENT
BEGIN:VEVENT
DTSTART;TZID=Europe/Berlin:20260128T090000
DTEND;TZID=Europe/Berlin:20260128T094500
DTSTAMP:20260422T122017
CREATED:20260106T120333Z
LAST-MODIFIED:20260106T120333Z
UID:13467-1769590800-1769593500@st-georg-dinkelsbuehl.de
SUMMARY:Eucharistiefeier
DESCRIPTION:
URL:https://st-georg-dinkelsbuehl.de/event/eucharistiefeier-5/
LOCATION:Schönenberg
END:VEVENT
BEGIN:VEVENT
DTSTART;TZID=Europe/Berlin:20260128T190000
DTEND;TZID=Europe/Berlin:20260128T213000
DTSTAMP:20260422T122017
CREATED:20260106T120509Z
LAST-MODIFIED:20260106T120509Z
UID:13469-1769626800-1769635800@st-georg-dinkelsbuehl.de
SUMMARY:Öffentliche Sitzung des Pfarrgemeinderates im Kath. Pfarrzentrum St. Georg
DESCRIPTION:
URL:https://st-georg-dinkelsbuehl.de/event/oeffentliche-sitzung-des-pfarrgemeinderates-im-kath-pfarrzentrum-st-georg/
LOCATION:Pfarrzentrum\, Kirchhöflein Nr. 2\, Dinkelsbühl\, 91550\, Deutschland
END:VEVENT
END:VCALENDAR