BEGIN:VCALENDAR
VERSION:2.0
PRODID:-//Sankt Georg Dinkelsbühl - ECPv6.15.20//NONSGML v1.0//EN
CALSCALE:GREGORIAN
METHOD:PUBLISH
X-WR-CALNAME:Sankt Georg Dinkelsbühl
X-ORIGINAL-URL:https://st-georg-dinkelsbuehl.de
X-WR-CALDESC:Veranstaltungen für Sankt Georg Dinkelsbühl
REFRESH-INTERVAL;VALUE=DURATION:PT1H
X-Robots-Tag:noindex
X-PUBLISHED-TTL:PT1H
BEGIN:VTIMEZONE
TZID:Europe/Berlin
BEGIN:DAYLIGHT
TZOFFSETFROM:+0100
TZOFFSETTO:+0200
TZNAME:CEST
DTSTART:20250330T010000
END:DAYLIGHT
BEGIN:STANDARD
TZOFFSETFROM:+0200
TZOFFSETTO:+0100
TZNAME:CET
DTSTART:20251026T010000
END:STANDARD
BEGIN:DAYLIGHT
TZOFFSETFROM:+0100
TZOFFSETTO:+0200
TZNAME:CEST
DTSTART:20260329T010000
END:DAYLIGHT
BEGIN:STANDARD
TZOFFSETFROM:+0200
TZOFFSETTO:+0100
TZNAME:CET
DTSTART:20261025T010000
END:STANDARD
BEGIN:DAYLIGHT
TZOFFSETFROM:+0100
TZOFFSETTO:+0200
TZNAME:CEST
DTSTART:20270328T010000
END:DAYLIGHT
BEGIN:STANDARD
TZOFFSETFROM:+0200
TZOFFSETTO:+0100
TZNAME:CET
DTSTART:20271031T010000
END:STANDARD
END:VTIMEZONE
BEGIN:VEVENT
DTSTART;TZID=Europe/Berlin:20260203T180000
DTEND;TZID=Europe/Berlin:20260203T190000
DTSTAMP:20260420T153927
CREATED:20260106T121537Z
LAST-MODIFIED:20260106T121537Z
UID:13483-1770141600-1770145200@st-georg-dinkelsbuehl.de
SUMMARY:Familiengottesdienst mit Lichterprozession und Kerzensegnung
DESCRIPTION:
URL:https://st-georg-dinkelsbuehl.de/event/familiengottesdienst-mit-lichterprozession-und-kerzensegnung/
LOCATION:Schönenberg
END:VEVENT
END:VCALENDAR