BEGIN:VCALENDAR
VERSION:2.0
PRODID:-//Sankt Georg Dinkelsbühl - ECPv6.15.20//NONSGML v1.0//EN
CALSCALE:GREGORIAN
METHOD:PUBLISH
X-WR-CALNAME:Sankt Georg Dinkelsbühl
X-ORIGINAL-URL:https://st-georg-dinkelsbuehl.de
X-WR-CALDESC:Veranstaltungen für Sankt Georg Dinkelsbühl
REFRESH-INTERVAL;VALUE=DURATION:PT1H
X-Robots-Tag:noindex
X-PUBLISHED-TTL:PT1H
BEGIN:VTIMEZONE
TZID:Europe/Berlin
BEGIN:DAYLIGHT
TZOFFSETFROM:+0100
TZOFFSETTO:+0200
TZNAME:CEST
DTSTART:20250330T010000
END:DAYLIGHT
BEGIN:STANDARD
TZOFFSETFROM:+0200
TZOFFSETTO:+0100
TZNAME:CET
DTSTART:20251026T010000
END:STANDARD
BEGIN:DAYLIGHT
TZOFFSETFROM:+0100
TZOFFSETTO:+0200
TZNAME:CEST
DTSTART:20260329T010000
END:DAYLIGHT
BEGIN:STANDARD
TZOFFSETFROM:+0200
TZOFFSETTO:+0100
TZNAME:CET
DTSTART:20261025T010000
END:STANDARD
BEGIN:DAYLIGHT
TZOFFSETFROM:+0100
TZOFFSETTO:+0200
TZNAME:CEST
DTSTART:20270328T010000
END:DAYLIGHT
BEGIN:STANDARD
TZOFFSETFROM:+0200
TZOFFSETTO:+0100
TZNAME:CET
DTSTART:20271031T010000
END:STANDARD
END:VTIMEZONE
BEGIN:VEVENT
DTSTART;TZID=Europe/Berlin:20260422T090000
DTEND;TZID=Europe/Berlin:20260422T094500
DTSTAMP:20260420T082242
CREATED:20260412T141136Z
LAST-MODIFIED:20260412T141136Z
UID:13975-1776848400-1776851100@st-georg-dinkelsbuehl.de
SUMMARY:Eucharistiefeier
DESCRIPTION:
URL:https://st-georg-dinkelsbuehl.de/event/eucharistiefeier-23/
LOCATION:Schönenberg
END:VEVENT
BEGIN:VEVENT
DTSTART;TZID=Europe/Berlin:20260423T160000
DTEND;TZID=Europe/Berlin:20260423T163000
DTSTAMP:20260420T082242
CREATED:20260412T151851Z
LAST-MODIFIED:20260412T151851Z
UID:14057-1776960000-1776961800@st-georg-dinkelsbuehl.de
SUMMARY:Wortgottesfeier im städtischen Altenheim Spital
DESCRIPTION:
URL:https://st-georg-dinkelsbuehl.de/event/wortgottesfeier-im-staedtischen-altenheim-spital-3/
LOCATION:städtisches Altenheim Spital\, Dr.-Martin-Luther-Straße\, Dinkelsbühl\, 91550
END:VEVENT
BEGIN:VEVENT
DTSTART;TZID=Europe/Berlin:20260423T170000
DTEND;TZID=Europe/Berlin:20260423T180000
DTSTAMP:20260420T082242
CREATED:20260401T184450Z
LAST-MODIFIED:20260401T184451Z
UID:13943-1776963600-1776967200@st-georg-dinkelsbuehl.de
SUMMARY:Öffentliche Kirchenführung
DESCRIPTION:Eintritt: € 3\,00/Person in den Opferstock
URL:https://st-georg-dinkelsbuehl.de/event/oeffentliche-kirchenfuehrung-2/
LOCATION:Schönenberg
END:VEVENT
BEGIN:VEVENT
DTSTART;TZID=Europe/Berlin:20260424T151500
DTEND;TZID=Europe/Berlin:20260424T153000
DTSTAMP:20260420T082242
CREATED:20260412T141342Z
LAST-MODIFIED:20260412T141342Z
UID:13979-1777043700-1777044600@st-georg-dinkelsbuehl.de
SUMMARY:Krippe unter der Lupe - 15 Minuten mit dem Nachtwächter
DESCRIPTION:
URL:https://st-georg-dinkelsbuehl.de/event/krippe-unter-der-lupe-15-minuten-mit-dem-nachtwaechter-2/
LOCATION:Schönenberg
END:VEVENT
BEGIN:VEVENT
DTSTART;TZID=Europe/Berlin:20260424T153000
DTEND;TZID=Europe/Berlin:20260424T160000
DTSTAMP:20260420T082242
CREATED:20250128T072422Z
LAST-MODIFIED:20260216T105016Z
UID:12024-1777044600-1777046400@st-georg-dinkelsbuehl.de
SUMMARY:Orgel um halb
DESCRIPTION:Orgel um halb \n30 Minuten Orgelmusik an der großen Rieger-Orgel mit Münsterkantor Volker Oertel
URL:https://st-georg-dinkelsbuehl.de/event/orgel-um-halb-34/
LOCATION:Schönenberg
CATEGORIES:Konzert,Orgel um halb
END:VEVENT
BEGIN:VEVENT
DTSTART;TZID=Europe/Berlin:20260425T140000
DTEND;TZID=Europe/Berlin:20260425T144500
DTSTAMP:20260420T082242
CREATED:20260412T141431Z
LAST-MODIFIED:20260412T141431Z
UID:13981-1777125600-1777128300@st-georg-dinkelsbuehl.de
SUMMARY:Taufe
DESCRIPTION:
URL:https://st-georg-dinkelsbuehl.de/event/taufe/
LOCATION:Schönenberg
END:VEVENT
BEGIN:VEVENT
DTSTART;TZID=Europe/Berlin:20260425T173000
DTEND;TZID=Europe/Berlin:20260425T183000
DTSTAMP:20260420T082242
CREATED:20260412T141511Z
LAST-MODIFIED:20260412T141511Z
UID:13983-1777138200-1777141800@st-georg-dinkelsbuehl.de
SUMMARY:Pfarrgottesdienst in Schopfloch
DESCRIPTION:
URL:https://st-georg-dinkelsbuehl.de/event/pfarrgottesdienst-in-schopfloch-6/
LOCATION:Kirche „Heiligsten Abendmahl“\, Schopfloch\, 91626
END:VEVENT
BEGIN:VEVENT
DTSTART;TZID=Europe/Berlin:20260426T100000
DTEND;TZID=Europe/Berlin:20260426T110000
DTSTAMP:20260420T082242
CREATED:20260412T141658Z
LAST-MODIFIED:20260412T141658Z
UID:13985-1777197600-1777201200@st-georg-dinkelsbuehl.de
SUMMARY:FESTGOTTESDIENST ZUM PATROZINIUM
DESCRIPTION:Festprediger: Diakon Markus Munzinger; \nmusikalisch mitgestaltet mit Parforcehornbläser
URL:https://st-georg-dinkelsbuehl.de/event/festgottesdienst-zum-patrozinium/
LOCATION:Schönenberg
END:VEVENT
BEGIN:VEVENT
DTSTART;TZID=Europe/Berlin:20260426T100000
DTEND;TZID=Europe/Berlin:20260426T110000
DTSTAMP:20260420T082242
CREATED:20260412T141824Z
LAST-MODIFIED:20260412T141824Z
UID:13987-1777197600-1777201200@st-georg-dinkelsbuehl.de
SUMMARY:Kindergottesdienst zum Patrozinium im Kath. Pfarrzentrum St. Georg
DESCRIPTION:
URL:https://st-georg-dinkelsbuehl.de/event/kindergottesdienst-zum-patrozinium-im-kath-pfarrzentrum-st-georg/
LOCATION:Pfarrzentrum\, Kirchhöflein Nr. 2\, Dinkelsbühl\, 91550\, Deutschland
END:VEVENT
BEGIN:VEVENT
DTSTART;TZID=Europe/Berlin:20260426T110000
DTEND;TZID=Europe/Berlin:20260426T150000
DTSTAMP:20260420T082242
CREATED:20260412T142024Z
LAST-MODIFIED:20260412T142024Z
UID:13989-1777201200-1777215600@st-georg-dinkelsbuehl.de
SUMMARY:Kirchencafé der Kita St. Magdalena im Kath. Pfarrzentrum St. Georg
DESCRIPTION:
URL:https://st-georg-dinkelsbuehl.de/event/kirchencafe-der-kita-st-magdalena-im-kath-pfarrzentrum-st-georg/
LOCATION:Pfarrzentrum\, Kirchhöflein Nr. 2\, Dinkelsbühl\, 91550\, Deutschland
END:VEVENT
BEGIN:VEVENT
DTSTART;TZID=Europe/Berlin:20260426T173000
DTEND;TZID=Europe/Berlin:20260426T190000
DTSTAMP:20260420T082242
CREATED:20260301T172452Z
LAST-MODIFIED:20260301T172452Z
UID:13911-1777224600-1777230000@st-georg-dinkelsbuehl.de
SUMMARY:"MEHR als Ja und Amen" - Dialogkonzert mit Margot Käßmann und Clemens Bittlinger
DESCRIPTION:Einlass 16:30 Uhr\, \nTickets: Vorverkauf € 20\,00\, Abendkasse: € 24\,00 \nVorverkaufsstelle: Touristik Service Dinkelsbühl\, Altrathausplatz 14\, 91550 Dinkelsbühl \nVeranstalter: KAB-Kreisverband Donau-Paar-Wörnitz
URL:https://st-georg-dinkelsbuehl.de/event/mehr-als-ja-und-amen-dialogkonzert-mit-margot-kaessmann-und-clemens-bittlinger/
LOCATION:Bayern
END:VEVENT
BEGIN:VEVENT
DTSTART;TZID=Europe/Berlin:20260429T090000
DTEND;TZID=Europe/Berlin:20260429T094500
DTSTAMP:20260420T082242
CREATED:20260412T152644Z
LAST-MODIFIED:20260412T152644Z
UID:14059-1777453200-1777455900@st-georg-dinkelsbuehl.de
SUMMARY:Eucharistiefeier
DESCRIPTION:
URL:https://st-georg-dinkelsbuehl.de/event/eucharistiefeier-29/
LOCATION:Münster St. Georg\, Marktplatz 1\, Dinkelsbühl\, Bayern\, 91550
END:VEVENT
BEGIN:VEVENT
DTSTART;TZID=Europe/Berlin:20260430T163000
DTEND;TZID=Europe/Berlin:20260430T170000
DTSTAMP:20260420T082242
CREATED:20260412T142348Z
LAST-MODIFIED:20260412T142348Z
UID:13995-1777566600-1777568400@st-georg-dinkelsbuehl.de
SUMMARY:Wortgottesfeier im Stephanus-Altenheim
DESCRIPTION:
URL:https://st-georg-dinkelsbuehl.de/event/wortgottesfeier-im-stephanus-altenheim/
LOCATION:Stephanus-Altenheim\, Crailsheimer Straße 26\, Dinkelsbühl\, 91550
END:VEVENT
BEGIN:VEVENT
DTSTART;TZID=Europe/Berlin:20260430T163000
DTEND;TZID=Europe/Berlin:20260430T173000
DTSTAMP:20260420T082242
CREATED:20260412T142249Z
LAST-MODIFIED:20260412T142249Z
UID:13993-1777566600-1777570200@st-georg-dinkelsbuehl.de
SUMMARY:Gottesdienst zur Goldenen Hochzeit in der St.-Ulrichs-Kapelle
DESCRIPTION:
URL:https://st-georg-dinkelsbuehl.de/event/gottesdienst-zur-goldenen-hochzeit-in-der-st-ulrichs-kapelle/
LOCATION:St. Ulrich
END:VEVENT
BEGIN:VEVENT
DTSTART;TZID=Europe/Berlin:20260430T170000
DTEND;TZID=Europe/Berlin:20260430T180000
DTSTAMP:20260420T082242
CREATED:20260401T184613Z
LAST-MODIFIED:20260401T184613Z
UID:13946-1777568400-1777572000@st-georg-dinkelsbuehl.de
SUMMARY:Öffentliche Kirchenführung
DESCRIPTION:Eintritt: € 3\,00/Person in den Opferstock
URL:https://st-georg-dinkelsbuehl.de/event/oeffentliche-kirchenfuehrung-3/
LOCATION:Schönenberg
END:VEVENT
BEGIN:VEVENT
DTSTART;TZID=Europe/Berlin:20260501T103000
DTEND;TZID=Europe/Berlin:20260501T113000
DTSTAMP:20260420T082242
CREATED:20260412T142522Z
LAST-MODIFIED:20260412T142522Z
UID:13997-1777631400-1777635000@st-georg-dinkelsbuehl.de
SUMMARY:Eucharistiefeier zum Fest Josef der Arbeiter
DESCRIPTION:musikalisch mitgestaltet vom Inklusiven Ensemble Bopfingen
URL:https://st-georg-dinkelsbuehl.de/event/eucharistiefeier-zum-fest-josef-der-arbeiter/
LOCATION:Schönenberg
END:VEVENT
BEGIN:VEVENT
DTSTART;TZID=Europe/Berlin:20260501T140000
DTEND;TZID=Europe/Berlin:20260501T150000
DTSTAMP:20260420T082242
CREATED:20260412T142630Z
LAST-MODIFIED:20260412T142630Z
UID:13999-1777644000-1777647600@st-georg-dinkelsbuehl.de
SUMMARY:Trauungsgottesdienst in der Kapuzinerkirche
DESCRIPTION:
URL:https://st-georg-dinkelsbuehl.de/event/trauungsgottesdienst-in-der-kapuzinerkirche/
LOCATION:Kapuzinerkirche\, Kapuzinerweg 2\, Dinkelsbühl\, 91550
END:VEVENT
BEGIN:VEVENT
DTSTART;TZID=Europe/Berlin:20260501T153000
DTEND;TZID=Europe/Berlin:20260501T160000
DTSTAMP:20260420T082242
CREATED:20250128T072330Z
LAST-MODIFIED:20260216T105125Z
UID:12022-1777649400-1777651200@st-georg-dinkelsbuehl.de
SUMMARY:Orgel um halb
DESCRIPTION:Orgel um halb \n30 Minuten Orgelmusik an der großen Rieger-Orgel mit Münsterkantor Volker Oertel
URL:https://st-georg-dinkelsbuehl.de/event/orgel-um-halb-33/
LOCATION:Schönenberg
CATEGORIES:Konzert,Orgel um halb
END:VEVENT
BEGIN:VEVENT
DTSTART;TZID=Europe/Berlin:20260502T160000
DTEND;TZID=Europe/Berlin:20260502T164500
DTSTAMP:20260420T082242
CREATED:20260412T142744Z
LAST-MODIFIED:20260412T142744Z
UID:14001-1777737600-1777740300@st-georg-dinkelsbuehl.de
SUMMARY:Gelegenheit zum Gespräch oder zur Beichte
DESCRIPTION:
URL:https://st-georg-dinkelsbuehl.de/event/gelegenheit-zum-gespraech-oder-zur-beichte-3/
LOCATION:Schönenberg
END:VEVENT
BEGIN:VEVENT
DTSTART;TZID=Europe/Berlin:20260502T173000
DTEND;TZID=Europe/Berlin:20260502T183000
DTSTAMP:20260420T082242
CREATED:20260412T142949Z
LAST-MODIFIED:20260412T142949Z
UID:14003-1777743000-1777746600@st-georg-dinkelsbuehl.de
SUMMARY:Pfarrgottesdienst in Schopfloch
DESCRIPTION:
URL:https://st-georg-dinkelsbuehl.de/event/pfarrgottesdienst-in-schopfloch-7/
LOCATION:Kirche „Heiligsten Abendmahl“\, Schopfloch\, 91626
END:VEVENT
BEGIN:VEVENT
DTSTART;TZID=Europe/Berlin:20260503T093000
DTEND;TZID=Europe/Berlin:20260503T103000
DTSTAMP:20260420T082242
CREATED:20260412T143051Z
LAST-MODIFIED:20260412T143051Z
UID:14005-1777800600-1777804200@st-georg-dinkelsbuehl.de
SUMMARY:Ökumenischer Gottesdienst zum Floriansfest im Feuerwehrgerätehaus Dinkelsbühl
DESCRIPTION:
URL:https://st-georg-dinkelsbuehl.de/event/oekumenischer-gottesdienst-zum-floriansfest-im-feuerwehrgeraetehaus-dinkelsbuehl/
LOCATION:Bayern
END:VEVENT
BEGIN:VEVENT
DTSTART;TZID=Europe/Berlin:20260503T100000
DTEND;TZID=Europe/Berlin:20260503T110000
DTSTAMP:20260420T082242
CREATED:20260412T143215Z
LAST-MODIFIED:20260412T143215Z
UID:14007-1777802400-1777806000@st-georg-dinkelsbuehl.de
SUMMARY:Eucharistiefeier mit Erwachsenentaufe und Firmung im Münster St. Georg
DESCRIPTION:
URL:https://st-georg-dinkelsbuehl.de/event/eucharistiefeier-mit-erwachsenentaufe-und-firmung-im-muenster-st-georg/
LOCATION:Schönenberg
END:VEVENT
BEGIN:VEVENT
DTSTART;TZID=Europe/Berlin:20260503T111500
DTEND;TZID=Europe/Berlin:20260503T120000
DTSTAMP:20260420T082242
CREATED:20260412T143341Z
LAST-MODIFIED:20260412T143341Z
UID:14009-1777806900-1777809600@st-georg-dinkelsbuehl.de
SUMMARY:Taufe im Münster St. Georg
DESCRIPTION:
URL:https://st-georg-dinkelsbuehl.de/event/taufe-im-muenster-st-georg/
LOCATION:Schönenberg
END:VEVENT
BEGIN:VEVENT
DTSTART;TZID=Europe/Berlin:20260503T170000
DTEND;TZID=Europe/Berlin:20260503T183000
DTSTAMP:20260420T082242
CREATED:20260412T143631Z
LAST-MODIFIED:20260412T143631Z
UID:14011-1777827600-1777833000@st-georg-dinkelsbuehl.de
SUMMARY:Dozentenkonzert der Berufsfachschule für Musik
DESCRIPTION:Ein besonderer Konzertnachmittag lädt dazu ein\, den Kirchenraum als Resonanzkörper vielfältiger Klangfarben zu erleben. \nDie Flötistin Stefanie Finke-Grimm\, neue Querflötendozentin an der Berufsfachschule für Musik Dinkelsbühl\, lädt gemeinsam mit Max Gärtner\, Verena Sennekamp und Michael Spors\, \n  \nam Sonntag\,  3. Mai 2026\, \num 17 Uhr in St. Georg  \n  \nzu einer musikalischen Reise ein. \nUnter dem Titel „KlangFARBEN“ entfaltet sich ein facettenreiches Programm für Flöte und ihre wechselnden Partner – von Orgel über Cello bis hin zur Marimba. \nIm Mittelpunkt steht die klangliche Vielfalt der Querflöte\, deren Ton sich im sakralen Raum auf besondere Weise entfalten kann: mal klar und leuchtend\, mal weich und getragen\, dann wieder virtuos und brillant. \nIn Verbindung mit der Orgel\, der „Königin der Instrumente“\, entstehen weite Klangräume\, die den Kirchenraum in seiner ganzen akustischen Tiefe erfahrbar machen. \nDas Programm verbindet unterschiedliche musikalische Epochen und Ausdrucksformen: Barocke Klarheit begegnet in der Sonate g-Moll Johann Sebastian Bachs der variationsreichen Klangsprache Marin Marais’. Mit Jules Mouquets „Pan et les Oiseaux“ öffnet sich eine impressionistische Klangwelt\, die Natur und Mythos musikalisch einfängt\, während Cécile Chaminades brillantes Concertino die Flöte in virtuosem Glanz erstrahlen lässt. Mit John Rutters „Suite Antique“ erklingt ein weiteres Werk zwischen Eleganz\, Bewegung und meditativer Klangfülle. Einen besonderen Akzent setzt Graham Instralls „Spirit Dance“ für Flöte und Marimba\, das rhythmische Energie und meditative Momente miteinander verbindet und so eine zeitgenössische Perspektive auf Klang und Bewegung eröffnet. \nDer Eintritt ist frei\, Spenden sind herzlich erbeten. \n 
URL:https://st-georg-dinkelsbuehl.de/event/dozentenkonzert-der-berufsfachschule-fuer-musik/
LOCATION:Schönenberg
END:VEVENT
BEGIN:VEVENT
DTSTART;TZID=Europe/Berlin:20260503T190000
DTEND;TZID=Europe/Berlin:20260503T200000
DTSTAMP:20260420T082242
CREATED:20260412T143722Z
LAST-MODIFIED:20260412T143722Z
UID:14013-1777834800-1777838400@st-georg-dinkelsbuehl.de
SUMMARY:Dankandacht zur Erstkommunion
DESCRIPTION:
URL:https://st-georg-dinkelsbuehl.de/event/dankandacht-zur-erstkommunion/
LOCATION:Schönenberg
END:VEVENT
BEGIN:VEVENT
DTSTART;TZID=Europe/Berlin:20260505T190000
DTEND;TZID=Europe/Berlin:20260505T200000
DTSTAMP:20260420T082242
CREATED:20260412T143813Z
LAST-MODIFIED:20260412T143813Z
UID:14015-1778007600-1778011200@st-georg-dinkelsbuehl.de
SUMMARY:Requiem für die im letzten Monat Verstorbenen
DESCRIPTION:
URL:https://st-georg-dinkelsbuehl.de/event/requiem-fuer-die-im-letzten-monat-verstorbenen/
LOCATION:Schönenberg
END:VEVENT
BEGIN:VEVENT
DTSTART;TZID=Europe/Berlin:20260506T090000
DTEND;TZID=Europe/Berlin:20260506T094500
DTSTAMP:20260420T082242
CREATED:20260412T143903Z
LAST-MODIFIED:20260412T143903Z
UID:14017-1778058000-1778060700@st-georg-dinkelsbuehl.de
SUMMARY:Eucharistiefeier
DESCRIPTION:
URL:https://st-georg-dinkelsbuehl.de/event/eucharistiefeier-25/
LOCATION:Schönenberg
END:VEVENT
BEGIN:VEVENT
DTSTART;TZID=Europe/Berlin:20260507T160000
DTEND;TZID=Europe/Berlin:20260507T163000
DTSTAMP:20260420T082242
CREATED:20260412T143956Z
LAST-MODIFIED:20260412T143956Z
UID:14019-1778169600-1778171400@st-georg-dinkelsbuehl.de
SUMMARY:Eucharistiefeier im städtischen Altenheim Spital
DESCRIPTION:
URL:https://st-georg-dinkelsbuehl.de/event/eucharistiefeier-im-staedtischen-altenheim-spital/
LOCATION:städtisches Altenheim Spital\, Dr.-Martin-Luther-Straße\, Dinkelsbühl\, 91550
END:VEVENT
BEGIN:VEVENT
DTSTART;VALUE=DATE:20260508
DTEND;VALUE=DATE:20260509
DTSTAMP:20260420T082242
CREATED:20260412T144336Z
LAST-MODIFIED:20260412T144336Z
UID:14021-1778198400-1778284799@st-georg-dinkelsbuehl.de
SUMMARY:Krankenkommunion
DESCRIPTION:
URL:https://st-georg-dinkelsbuehl.de/event/krankenkommunion-4/
LOCATION:Bayern
END:VEVENT
BEGIN:VEVENT
DTSTART;TZID=Europe/Berlin:20260508T090000
DTEND;TZID=Europe/Berlin:20260508T094500
DTSTAMP:20260420T082242
CREATED:20260412T144437Z
LAST-MODIFIED:20260412T144437Z
UID:14023-1778230800-1778233500@st-georg-dinkelsbuehl.de
SUMMARY:Eucharistiefeier
DESCRIPTION:
URL:https://st-georg-dinkelsbuehl.de/event/eucharistiefeier-26/
LOCATION:Schönenberg
END:VEVENT
END:VCALENDAR