BEGIN:VCALENDAR
VERSION:2.0
PRODID:-//Sankt Georg Dinkelsbühl - ECPv6.15.20//NONSGML v1.0//EN
CALSCALE:GREGORIAN
METHOD:PUBLISH
X-ORIGINAL-URL:https://st-georg-dinkelsbuehl.de
X-WR-CALDESC:Veranstaltungen für Sankt Georg Dinkelsbühl
REFRESH-INTERVAL;VALUE=DURATION:PT1H
X-Robots-Tag:noindex
X-PUBLISHED-TTL:PT1H
BEGIN:VTIMEZONE
TZID:Europe/Berlin
BEGIN:DAYLIGHT
TZOFFSETFROM:+0100
TZOFFSETTO:+0200
TZNAME:CEST
DTSTART:20250330T010000
END:DAYLIGHT
BEGIN:STANDARD
TZOFFSETFROM:+0200
TZOFFSETTO:+0100
TZNAME:CET
DTSTART:20251026T010000
END:STANDARD
BEGIN:DAYLIGHT
TZOFFSETFROM:+0100
TZOFFSETTO:+0200
TZNAME:CEST
DTSTART:20260329T010000
END:DAYLIGHT
BEGIN:STANDARD
TZOFFSETFROM:+0200
TZOFFSETTO:+0100
TZNAME:CET
DTSTART:20261025T010000
END:STANDARD
BEGIN:DAYLIGHT
TZOFFSETFROM:+0100
TZOFFSETTO:+0200
TZNAME:CEST
DTSTART:20270328T010000
END:DAYLIGHT
BEGIN:STANDARD
TZOFFSETFROM:+0200
TZOFFSETTO:+0100
TZNAME:CET
DTSTART:20271031T010000
END:STANDARD
END:VTIMEZONE
BEGIN:VEVENT
DTSTART;TZID=Europe/Berlin:20260424T153000
DTEND;TZID=Europe/Berlin:20260424T160000
DTSTAMP:20260420T121809
CREATED:20250128T072422Z
LAST-MODIFIED:20260216T105016Z
UID:12024-1777044600-1777046400@st-georg-dinkelsbuehl.de
SUMMARY:Orgel um halb
DESCRIPTION:Orgel um halb \n30 Minuten Orgelmusik an der großen Rieger-Orgel mit Münsterkantor Volker Oertel
URL:https://st-georg-dinkelsbuehl.de/event/orgel-um-halb-34/
LOCATION:Schönenberg
CATEGORIES:Konzert,Orgel um halb
END:VEVENT
END:VCALENDAR